BEGIN:VCALENDAR
VERSION:2.0
PRODID:-//Hanzestrohm - ECPv6.14.2//NONSGML v1.0//EN
CALSCALE:GREGORIAN
METHOD:PUBLISH
X-ORIGINAL-URL:https://hanzestrohm.nl
X-WR-CALDESC:Evenementen voor Hanzestrohm
REFRESH-INTERVAL;VALUE=DURATION:PT1H
X-Robots-Tag:noindex
X-PUBLISHED-TTL:PT1H
BEGIN:VTIMEZONE
TZID:Europe/Helsinki
BEGIN:DAYLIGHT
TZOFFSETFROM:+0200
TZOFFSETTO:+0300
TZNAME:EEST
DTSTART:20250330T010000
END:DAYLIGHT
BEGIN:STANDARD
TZOFFSETFROM:+0300
TZOFFSETTO:+0200
TZNAME:EET
DTSTART:20251026T010000
END:STANDARD
END:VTIMEZONE
BEGIN:VEVENT
DTSTART;TZID=Europe/Helsinki:20250919T120000
DTEND;TZID=Europe/Helsinki:20250919T160000
DTSTAMP:20260424T002023
CREATED:20250805T095556Z
LAST-MODIFIED:20250808T093938Z
UID:54529-1758283200-1758297600@hanzestrohm.nl
SUMMARY:Kennisevent Veiligheid in de industrie
DESCRIPTION:In samenwerking met ABB en de Van Egmond Groep organiseren we op vrijdag 19 september het Kennisevent Veiligheid in de industrie! \nMet dit gratis kennisevent van 12:00 tot 16:00 inclusief lunch brengen we je op de hoogte van de nieuwste trends en belangrijke regelgeving op het gebied van machine- en voedselveiligheid. De sprekers van deze middag\, experts in de industrie\, delen hun kennis en praktijkervaringen om jouw (productie)proces veiliger en duurzamer te maken. Van de impact van de Machineverordening tot slimme en veilige ontwerpoplossingen voor voedselveiligheid: je krijgt praktische inzichten en direct toepasbare adviezen! \nVoor wie is dit kennisevent?\nDit event is bijzonder interessant voor machinebouwers en productiebedrijven die het thema veiligheid (beter) willen integreren binnen hun organisatie. Denk aan engineers\, compliance- en kwaliteitsmanagers of technisch leidinggevenden. Wij zorgen voor diepgaande kennis en praktische tips zodat jouw organisatie dit nog beter aan kan pakken. \nWil jij erbij zijn? Meld je dan gratis aan via deze link! \nMeld je aan voor dit gratis event                                     \nHet programma\n12:00 uur | Ontvangst en lunch \n12:30 uur | Opening en welkomstwoord door Van Egmond Groep \n12:45 uur | Sessie 1 – Trends & Regelgeving: Machineverordening & circulariteit door Hans van de Steen\, Business Manager en missionaris Circulair Ontwerpen\, Hygienic Design Network (HDN) \n13:45 uur | Sessie 2 – Voedselveiligheid begint bij het juiste ontwerp en bijbehorende componenten door Pascal Eijkelkamp\, Teamleider Industrie Hemmink \n14:00 uur | Koffiepauze \n14:15 uur | Sessie 3 – Engineer het beste uit je machine door Erwin Rodenburgh\, Product Marketing Specialist Control ABB \n14:45 uur | Sessie 4 – Hoe zorgt van Egmond Groep voor een veilig en continu productieproces? door Peter Köster\, Technical Support Specialist Van Egmond Groep \n15:15 uur | Borrel en napraten bij demo’s door ABB en Hemmink
URL:https://hanzestrohm.nl/hemmink/evenementen/kennisevent-veiligheid-in-de-industrie/
LOCATION:Van Egmond Groep Doetinchem\, Expeditieweg 4\, Doetinchem\, 7007 CM\, Netherlands
CATEGORIES:Partner Evenement
ATTACH;FMTTYPE=image/png:https://hanzestrohm.nl/content/uploads/2025/08/Header-Kennisevent-Veiligheid-in-de-industrie-Van-Egmond-Groep_2.png
ORGANIZER;CN="Hemmink":MAILTO:info@hanzestrohm.nl
END:VEVENT
END:VCALENDAR