BEGIN:VCALENDAR
VERSION:2.0
PRODID:-//Hanzestrohm - ECPv6.14.2//NONSGML v1.0//EN
CALSCALE:GREGORIAN
METHOD:PUBLISH
X-ORIGINAL-URL:https://hanzestrohm.nl
X-WR-CALDESC:Evenementen voor Hanzestrohm
REFRESH-INTERVAL;VALUE=DURATION:PT1H
X-Robots-Tag:noindex
X-PUBLISHED-TTL:PT1H
BEGIN:VTIMEZONE
TZID:Europe/Helsinki
BEGIN:DAYLIGHT
TZOFFSETFROM:+0200
TZOFFSETTO:+0300
TZNAME:EEST
DTSTART:20250330T010000
END:DAYLIGHT
BEGIN:STANDARD
TZOFFSETFROM:+0300
TZOFFSETTO:+0200
TZNAME:EET
DTSTART:20251026T010000
END:STANDARD
END:VTIMEZONE
BEGIN:VEVENT
DTSTART;TZID=Europe/Helsinki:20250619T140000
DTEND;TZID=Europe/Helsinki:20250619T180000
DTSTAMP:20260424T053202
CREATED:20250224T100113Z
LAST-MODIFIED:20250805T095941Z
UID:52172-1750341600-1750356000@hanzestrohm.nl
SUMMARY:Ontdek wat zout doet voor energieopslag met het Fortona Techlab
DESCRIPTION:Ben jij installateur\, werkvoorbereider of projectleider?\nKrijg je steeds vaker vragen over energieopslag\, -managemenent en netcongestie?\nBen je nieuwsgierig naar de belangrijkste ontwikkelingen en veilige en duurzame oplossingen op het gebied van energie?\n\n\n\nEn krijg je energie van een goed verhaal\, een borrel met wat lekkers en een blik op de kansen die er voor jou liggen in de huidige uitdagingen op het gebied van energie? \nDan is deze middag voor jou! \nOp donderdag 19 juni 2025 ben je van harte welkom bij Fortona en ons Techlab. We vertellen je over de nieuwste ontwikkelingen op het gebied van veilige en duurzame energieopslagsystemen (EOS)\, energiemanagementsystemen (EMS) en de kansen in de markt. \nAan het eind van de dag kun je vol energie huiswaarts; na een smakelijk hapje en drankje en een bezoek aan het Fortona Techlab heb je helder zicht op de kansen die energieopslag en -management jouw klanten bieden. \nZien we jou ook op donderdag 19 juni van 14:00 tot 17:00 uur? Meld je dan snel aan via onderstaand formulier! Toegang is gratis\, maar meld je wel even vooraf aan. Zo weten wij met hoeveel man we rekening moeten houden en komt niemand met lege handen (en een lege maag) te staan. \nGlobaal programma van de dag\n\n14:00 uur | Inloop met koffie\, thee wat lekkers\n14:30 uur | Opening\n14:45 uur | Energietransitie en duurzame energieopslag\n15:45 uur | Vragen\, feedback en discussie\n16:15 uur | Rondleiding Techlab met hapje en drankje\n17:00 uur | Einde\n\nMeld je aan
URL:https://hanzestrohm.nl/fortona/evenementen/beter-in-energie-met-het-fortona-techlab/
LOCATION:Hanzestrohm hoofdkantoor\, Popovstraat 1\, Zwolle\, Overijssel\, 8013RK\, Nederland
CATEGORIES:Evenement
ATTACH;FMTTYPE=image/webp:https://hanzestrohm.nl/content/uploads/2025/02/techlab-header.webp
ORGANIZER;CN="Fortona":MAILTO:info@fortona.nl
END:VEVENT
END:VCALENDAR