BEGIN:VCALENDAR
VERSION:2.0
PRODID:-//Hanzestrohm - ECPv6.14.2//NONSGML v1.0//EN
CALSCALE:GREGORIAN
METHOD:PUBLISH
X-ORIGINAL-URL:https://hanzestrohm.nl
X-WR-CALDESC:Evenementen voor Hanzestrohm
REFRESH-INTERVAL;VALUE=DURATION:PT1H
X-Robots-Tag:noindex
X-PUBLISHED-TTL:PT1H
BEGIN:VTIMEZONE
TZID:Europe/Helsinki
BEGIN:DAYLIGHT
TZOFFSETFROM:+0200
TZOFFSETTO:+0300
TZNAME:EEST
DTSTART:20250330T010000
END:DAYLIGHT
BEGIN:STANDARD
TZOFFSETFROM:+0300
TZOFFSETTO:+0200
TZNAME:EET
DTSTART:20251026T010000
END:STANDARD
END:VTIMEZONE
BEGIN:VEVENT
DTSTART;TZID=Europe/Helsinki:20250514T100000
DTEND;TZID=Europe/Helsinki:20250515T170000
DTSTAMP:20260424T065040
CREATED:20250318T142332Z
LAST-MODIFIED:20250319T100716Z
UID:52543-1747216800-1747328400@hanzestrohm.nl
SUMMARY:Bekijk de innovaties van Hemmink op FoodTech 2025
DESCRIPTION:Op 14 en 15 mei ben je van harte welkom op de Hemmink stand op het FoodTech event 2025! Wij vertellen je graag over onze unieke oplossingen voor een veilig\, hygiënisch en storingsvrij productieproces: \n\nNieuw! Unieke en compacte brandbeveiliging van MAUS voor paneel- en besturingskasten\nHygienic Design oplossingen van Pflitsch en Flexa voor optimale kabeldoorvoer\, kabelbescherming en kabelgeleiding\n\nVoorkom brand in je paneel- of besturingskast met MAUS\nBrand in een paneel- of besturingskast kan grote gevolgen hebben: productie-onderbreking\, schade aan kostbare apparatuur in de kast of zelfs een overslaande brand naar andere delen van je bedrijf.  De Zweedse fabrikant MAUS biedt een effectieve oplossing met de Stixx PRO\, een compact en vlamdovend brandveiligheidsproduct op basis van aerosol technologie. Geen residu\, geen schade\, maximale bescherming! Eenvoudig in elke schakelkast\, besturingskast of behuizing te plaatsen. \n \n\nVoorkom besmettingen met hygiënisch ontwerpen\nProductieonderbrekingen\, recalls en downtime als gevolg van besmettingen of ontoereikende reiniging kunnen enorme kosten met zich meebrengen. Hygiënisch ontwerpen is dé oplosing om dit te voorkomen. Met de Hygienic Design producten van onze partners Pflitsch en Flexa zorg je voor hygiënische bekabeling van machines en productielijnen zodat deze snel en grondig gereinigd kunnen worden. \nVraag hier jouw gratis toegangskaart aan \nDit kan Hemmink voor je betekenen\nHemmink adviseert machinebouwers\, voedselverwerkende bedrijven\, industriële installateurs en engineers over machine-ontwerp\, reiniging en wet- en regelgeving. De Hygienic Design producten van Hemmink zorgen voor een optimale werking van je installaties en voorkomen ongewenste productieonderbrekingen of downtime. \nOnze kennisgebieden: \n\nEMC\nATEX\nHygiënisch Ontwerp\n\nBezoek het FoodTech event op 14 en 15 mei 2025 in de Brabanthallen in Den Bosch en ontdek hoe onze oplossingen bijdragen aan een veilig\, hygiënisch en storingsvrij productieproces. Je vindt de Hemmink specialisten op stand 73. \nBekijk het programma en meer beursinformatie op www.food-tech-event.nl.
URL:https://hanzestrohm.nl/hemmink/evenementen/innovaties-van-hemmink-op-foodtech-2025/
LOCATION:Brabanthallen\, Diezekade 2\, Den Bosch\, Nederland
CATEGORIES:Evenement
ATTACH;FMTTYPE=image/png:https://hanzestrohm.nl/content/uploads/2025/03/headerbeeld-foodtech-2025.png
ORGANIZER;CN="Pascal Eijkelkamp":MAILTO:p.eijkelkamp@hemmink.nl
END:VEVENT
BEGIN:VEVENT
DTSTART;TZID=Europe/Helsinki:20250520T170000
DTEND;TZID=Europe/Helsinki:20250520T200000
DTSTAMP:20260424T065040
CREATED:20250117T063840Z
LAST-MODIFIED:20250217T091922Z
UID:51148-1747760400-1747771200@hanzestrohm.nl
SUMMARY:[Training] Brand- en vluchtveiligheid in Hoofddorp
DESCRIPTION:Op dinsdag 20 mei ben je welkom in Hoofddorp voor een inspirerende training gericht op brandveiligheid. Van 17:00 tot 20:00 uur nemen experts Jan Winters en Richard Kamans je mee in de belangrijkste ontwikkelingen en praktische toepassingen binnen het vakgebied. \nJe leert meer over de normen zoals NEN 2555 en hoe je de nieuwste rookmelders van Ei Electronics optimaal gebruikt. Praktische tips\, hands-on ervaringen en de nieuwste trends komen uitgebreid aan bod\, zodat jij je werk nog slimmer en efficiënter kunt uitvoeren. \nPraktische informatie: \n\nLocatie: Hotel NH Amsterdam Schiphol Airport\nWanneer: dinsdag 20 mei\nHoe laat: van 17:00 – 20:00 (inloop vanaf 16:30)\n\nWat staat je te wachten? \n\nDiepgaande kennis over normen en wetgeving.\nPraktische ervaring met rookmelders en multisensoren.\nInspirerende inzichten in de toekomst van brandpreventie.\n\nVoor onze relaties bieden we deze waardevolle training (t.w.v. €79\,-) kosteloos aan\, inclusief een uitgebreid dinerbuffet. Gebruik hiervoor bij het aanmelden de relatiecode: Hemmink2025. Laat deze kans niet aan je voorbijgaan en schrijf je direct in! \n\nMeld je nu aan
URL:https://hanzestrohm.nl/hemmink/evenementen/training-brandveiligheid-regio-hoofddorp/
LOCATION:Hotel NH Amsterdam Schiphol Airport\, Kruisweg 495\, Hoofddorp\, Noord-Holland\, 2132 NA\, Nederland
CATEGORIES:Training
ATTACH;FMTTYPE=image/jpeg:https://hanzestrohm.nl/content/uploads/2025/01/Training-Jan-Winters-in-Zwolle-scaled.jpg
END:VEVENT
END:VCALENDAR