BEGIN:VCALENDAR
VERSION:2.0
PRODID:-//Hanzestrohm - ECPv6.14.2//NONSGML v1.0//EN
CALSCALE:GREGORIAN
METHOD:PUBLISH
X-WR-CALNAME:Hanzestrohm
X-ORIGINAL-URL:https://hanzestrohm.nl
X-WR-CALDESC:Evenementen voor Hanzestrohm
REFRESH-INTERVAL;VALUE=DURATION:PT1H
X-Robots-Tag:noindex
X-PUBLISHED-TTL:PT1H
BEGIN:VTIMEZONE
TZID:Europe/Helsinki
BEGIN:DAYLIGHT
TZOFFSETFROM:+0200
TZOFFSETTO:+0300
TZNAME:EEST
DTSTART:20230326T010000
END:DAYLIGHT
BEGIN:STANDARD
TZOFFSETFROM:+0300
TZOFFSETTO:+0200
TZNAME:EET
DTSTART:20231029T010000
END:STANDARD
BEGIN:DAYLIGHT
TZOFFSETFROM:+0200
TZOFFSETTO:+0300
TZNAME:EEST
DTSTART:20240331T010000
END:DAYLIGHT
BEGIN:STANDARD
TZOFFSETFROM:+0300
TZOFFSETTO:+0200
TZNAME:EET
DTSTART:20241027T010000
END:STANDARD
BEGIN:DAYLIGHT
TZOFFSETFROM:+0200
TZOFFSETTO:+0300
TZNAME:EEST
DTSTART:20250330T010000
END:DAYLIGHT
BEGIN:STANDARD
TZOFFSETFROM:+0300
TZOFFSETTO:+0200
TZNAME:EET
DTSTART:20251026T010000
END:STANDARD
END:VTIMEZONE
BEGIN:VEVENT
DTSTART;VALUE=DATE:20230901
DTEND;VALUE=DATE:20240701
DTSTAMP:20260425T184509
CREATED:20231006T121941Z
LAST-MODIFIED:20231114T120938Z
UID:37193-1693526400-1719791999@hanzestrohm.nl
SUMMARY:Cursus keuren elektrische arbeidsmiddelen volgens NEN 3140 (Ingenium)
DESCRIPTION:Wil je keuringen aan elektrische gereedschappen en elektrisch vast opgesteld (400V) machines zelfstandig uitvoeren? Dan is de cursus Keuren elektrische arbeidsmiddelen volgens NEN 3140 van opleider Ingenium wat voor jou. \nNa afloop ben je bevoegd voor NEN 3140 keuren van elektrische arbeidsmiddelen\, elektrische handgereedschappen en elektrische driefasenmachines (zowel voor de eigen organisatie als keuringen voor derden). \nPraktische informatie cursus\nDeze cursus is op twee manieren te volgen: \n\nOp locatie\, zie trainingsdata voor data en diverse locaties (studiebelasting 1 dag\, €249)\nOnline\, als e-learning op je eigen tempo (studiebelasting 7-9 uur\, €199)
URL:https://hanzestrohm.nl/hemmink/evenementen/cursus-keuren-elektrische-arbeidsmiddelen-volgens-nen-3140/
LOCATION:Digitaal of op locatie
CATEGORIES:Partner Evenement,Training
ATTACH;FMTTYPE=image/jpeg:https://hanzestrohm.nl/content/uploads/2020/04/meten-veiligheid-van-apparaat-3140-scaled.jpg
ORGANIZER;CN="Ingenium":MAILTO:info@de-opleider.nl
END:VEVENT
BEGIN:VEVENT
DTSTART;VALUE=DATE:20230901
DTEND;VALUE=DATE:20240328
DTSTAMP:20260425T184509
CREATED:20231006T125548Z
LAST-MODIFIED:20231114T120733Z
UID:37215-1693526400-1711583999@hanzestrohm.nl
SUMMARY:Opleiding SCIOS Scope 8 aangeboden door Omega
DESCRIPTION:Tijdens de Scope 8 cursus van Omega Energietechniek word jij klaargestoomd om aan de slag te gaan als volwaardig Scope 8 inspecteur laagspanningsinstallaties. Dit houdt in dat je zelfstandig een inspectie aan elektrische installaties mag uitvoeren. Met als doel? Een zo’n veilig mogelijke bedrijfsvoering waarborgen. \nPraktische informatie\n\nDe opleiding wordt gegeven op diverse data\nLocatie: Vianen of Dronten\nStudiebelasting: 5 dagen\nKosten: €1895\,-\nDeze opleiding wordt aangeboden door Omega\n\nOm SCIOS Scope 8 inspecteur te worden\, is het belangrijk om een examen te maken. Dit examen bestaat uit een praktijk- en theoriedeel. Je kunt je tijdens het inschrijven voor de opleiding ook direct inschrijven voor het examen. \nBekijk voor meer informatie de opleidingspagina van Omega
URL:https://hanzestrohm.nl/hemmink/evenementen/opleiding-scios-scope-8/
LOCATION:Diverse locaties
CATEGORIES:Partner Evenement,Training
ATTACH;FMTTYPE=image/jpeg:https://hanzestrohm.nl/content/uploads/2020/04/inspectie-elektrische-arbeidsmiddelen-nen-3140.jpg
END:VEVENT
BEGIN:VEVENT
DTSTART;VALUE=DATE:20231001
DTEND;VALUE=DATE:20241122
DTSTAMP:20260425T184509
CREATED:20231017T124701Z
LAST-MODIFIED:20231114T101921Z
UID:37479-1696118400-1732233599@hanzestrohm.nl
SUMMARY:Opleiding SCIOS Scope 10 aangeboden door Omega
DESCRIPTION:Tijdens de 3-daagse SCIOS Scope 10 opleiding van Omega leer je hoe je de brandveiligheid van elektrische installaties keurt. Als gecertificeerd Scope 10 inspecteur beoordeel jij – aan de hand van specifieke metingen en tests – de veiligheid van elektrisch materieel. Je doet dit door specifieke metingen en tests. \nPraktische informatie\n\nDe opleiding wordt gegeven op diverse data\nLocatie: Vianen of Dronten\nStudiebelasting: 3 dagen\nKosten: €1095\,-\nDeze opleiding wordt aangeboden door Omega Energietechniek\nVoltooiing SCIOS Scope 8 opleiding vereist\n\nNa afronding van de cursus kun je een SCIOS Scope 10 examen maken. Je kunt je tijdens het inschrijven voor de opleiding ook direct inschrijven voor het examen. \nBekijk voor meer informatie de opleidingspagina van Omega.
URL:https://hanzestrohm.nl/hemmink/evenementen/opleiding-scios-scope-10/
LOCATION:Diverse locaties
CATEGORIES:Partner Evenement
ATTACH;FMTTYPE=image/jpeg:https://hanzestrohm.nl/content/uploads/2023/10/brandveiligheid-elektrische-installaties.jpg
END:VEVENT
BEGIN:VEVENT
DTSTART;VALUE=DATE:20231001
DTEND;VALUE=DATE:20241128
DTSTAMP:20260425T184509
CREATED:20231017T125338Z
LAST-MODIFIED:20231114T102532Z
UID:37485-1696118400-1732751999@hanzestrohm.nl
SUMMARY:Opleiding SCIOS Scope 12 aangeboden door Omega
DESCRIPTION:Tijdens de SCIOS Scope 12 opleiding van Omega leer je in 4 dagen hoe je (periodieke) inspecties uitvoert aan zonnepaneelinstallaties. Na deze opleiding spoor je (brand)gevaarlijke situaties aan PV-installaties op en weet je hoe je de veiligheid moet waarborgen. \nPraktische informatie\n\nDe opleiding wordt gegeven op diverse data\nLocatie: Vianen of Dronten\nStudiebelasting: 4 dagen en 30 uur zelfstudie\nKosten: €1595\,-\nDeze opleiding wordt aangeboden door Omega Energietechniek\n\nMet een SCIOS Scope 8 certificaat heb je recht op 1 dag vrijstelling. Na afronding van de cursus kun je een SCIOS Scope 12 examen maken. Je kunt je tijdens het inschrijven voor de opleiding ook direct inschrijven voor het examen. \nBekijk voor meer informatie de opleidingspagina van Omega.
URL:https://hanzestrohm.nl/hemmink/evenementen/opleiding-scios-scope-12-veiligheidsinspecties-zonnepanelen/
LOCATION:Diverse locaties
CATEGORIES:Partner Evenement
ATTACH;FMTTYPE=image/jpeg:https://hanzestrohm.nl/content/uploads/2020/04/pv-installatie-zonnepanelen-veld-scaled.jpg
END:VEVENT
BEGIN:VEVENT
DTSTART;TZID=Europe/Helsinki:20240314T140000
DTEND;TZID=Europe/Helsinki:20240314T170000
DTSTAMP:20260425T184509
CREATED:20240301T144800Z
LAST-MODIFIED:20240301T144800Z
UID:42752-1710424800-1710435600@hanzestrohm.nl
SUMMARY:Event 'Time to go blue!' aangeboden door Redlink & TREND Networks
DESCRIPTION:Ben je er klaar voor om jezelf te onderscheiden in de installatiebranche? Dit is je kans. In samenwerking met TREND Networks biedt Redlink op 14 maart het ‘Time to go blue!’ event aan. Tijdens dit evenement kun je de oplossingen van TREND Networks zelf ervaren. Daarnaast leer je hoe je tijd en geld bespaart door slim te werken met AnyWARE Cloud én hoe je een streepje voor creëert bij klanten. \nPraktische informatie\n\nDatum: 14 maart 2024\nStart: 14.00 uur\nLocatie: Nijverheidsweg 2\, Bunschoten Spakenburg\nDit evenement is gratis\n\nMeld je aan.
URL:https://hanzestrohm.nl/hemmink/evenementen/time-to-go-blue-event-redlink/
LOCATION:Redlink\, Nijverheidsweg 2\, Bunschoten Spakenburg\, 3751LP\, Nederland
CATEGORIES:Partner Evenement
ATTACH;FMTTYPE=image/jpeg:https://hanzestrohm.nl/content/uploads/2024/03/lantek-iv.jpeg
END:VEVENT
BEGIN:VEVENT
DTSTART;TZID=Europe/Helsinki:20240326T083000
DTEND;TZID=Europe/Helsinki:20250326T160000
DTSTAMP:20260425T184509
CREATED:20231017T132429Z
LAST-MODIFIED:20240301T145620Z
UID:37207-1711441800-1743004800@hanzestrohm.nl
SUMMARY:Gebruikstraining Metrel MI3360 PAT-tester aangeboden door Maptools
DESCRIPTION:Tijdens de gebruikstraining Metrel MI3360 PAT-tester van Maptools ontdek je hoe je de tester veilig en efficiënt gebruikt. Je leert alles over het testen van elektrische apparaten en het nauwkeurig registreren van resultaten. Praktische voorbeelden helpen je om te begrijpen welke vereiste technieken er nodig zijn voor betrouwbare tests. \nPraktische informatie\n\n1-daagse training\nMeer informatie is beschikbaar op de cursuspagina\nAangeboden door MapTools
URL:https://hanzestrohm.nl/hemmink/evenementen/gebruikstraining-metrel-mi3360-pat-tester/
LOCATION:De Bungelaer\, De Bungelaar 4\, Beers\, 5437 PM\, Nederland
CATEGORIES:Partner Evenement
ATTACH;FMTTYPE=image/jpeg:https://hanzestrohm.nl/content/uploads/2023/10/MI-3360-OmegaPAT-XA-training-scaled.jpg
ORGANIZER;CN="Maptools":MAILTO:info@maptools.nl
END:VEVENT
BEGIN:VEVENT
DTSTART;TZID=Europe/Helsinki:20240327T083000
DTEND;TZID=Europe/Helsinki:20240327T160000
DTSTAMP:20260425T184509
CREATED:20240301T150644Z
LAST-MODIFIED:20240301T150644Z
UID:42762-1711528200-1711555200@hanzestrohm.nl
SUMMARY:Training Metrel MESM en MI3155 aangeboden door Maptools
DESCRIPTION:Volg deze Metrel MESM en MI3155 training en raak in één dag op vlieghoogte. Tijdens deze training\, waarin je zowel praktisch als theoretisch aan de slag gaat\, leer je: \n\nMetingen voorbereiden\nMeetresultaten bekijken en bewerken\nProfessionele rapporten genereren\n\nPraktische informatie\n\nMeer informatie is beschikbaar op de cursuspagina\nAangeboden door MapTools
URL:https://hanzestrohm.nl/hemmink/evenementen/training-metrel-mesm-mi3155-maptools/
LOCATION:De Bungelaer\, De Bungelaar 4\, Beers\, 5437 PM\, Nederland
CATEGORIES:Partner Evenement
ATTACH;FMTTYPE=image/jpeg:https://hanzestrohm.nl/content/uploads/2020/06/metrel-eurotest-mi3155-installatietester-1.jpg
ORGANIZER;CN="Maptools":MAILTO:info@maptools.nl
END:VEVENT
END:VCALENDAR