BEGIN:VCALENDAR
VERSION:2.0
PRODID:-//Hanzestrohm - ECPv6.14.2//NONSGML v1.0//EN
CALSCALE:GREGORIAN
METHOD:PUBLISH
X-WR-CALNAME:Hanzestrohm
X-ORIGINAL-URL:https://hanzestrohm.nl
X-WR-CALDESC:Evenementen voor Hanzestrohm
REFRESH-INTERVAL;VALUE=DURATION:PT1H
X-Robots-Tag:noindex
X-PUBLISHED-TTL:PT1H
BEGIN:VTIMEZONE
TZID:Europe/Helsinki
BEGIN:DAYLIGHT
TZOFFSETFROM:+0200
TZOFFSETTO:+0300
TZNAME:EEST
DTSTART:20230326T010000
END:DAYLIGHT
BEGIN:STANDARD
TZOFFSETFROM:+0300
TZOFFSETTO:+0200
TZNAME:EET
DTSTART:20231029T010000
END:STANDARD
BEGIN:DAYLIGHT
TZOFFSETFROM:+0200
TZOFFSETTO:+0300
TZNAME:EEST
DTSTART:20240331T010000
END:DAYLIGHT
BEGIN:STANDARD
TZOFFSETFROM:+0300
TZOFFSETTO:+0200
TZNAME:EET
DTSTART:20241027T010000
END:STANDARD
END:VTIMEZONE
BEGIN:VEVENT
DTSTART;VALUE=DATE:20230901
DTEND;VALUE=DATE:20240701
DTSTAMP:20260426T063800
CREATED:20231006T121941Z
LAST-MODIFIED:20231114T120938Z
UID:37193-1693526400-1719791999@hanzestrohm.nl
SUMMARY:Cursus keuren elektrische arbeidsmiddelen volgens NEN 3140 (Ingenium)
DESCRIPTION:Wil je keuringen aan elektrische gereedschappen en elektrisch vast opgesteld (400V) machines zelfstandig uitvoeren? Dan is de cursus Keuren elektrische arbeidsmiddelen volgens NEN 3140 van opleider Ingenium wat voor jou. \nNa afloop ben je bevoegd voor NEN 3140 keuren van elektrische arbeidsmiddelen\, elektrische handgereedschappen en elektrische driefasenmachines (zowel voor de eigen organisatie als keuringen voor derden). \nPraktische informatie cursus\nDeze cursus is op twee manieren te volgen: \n\nOp locatie\, zie trainingsdata voor data en diverse locaties (studiebelasting 1 dag\, €249)\nOnline\, als e-learning op je eigen tempo (studiebelasting 7-9 uur\, €199)
URL:https://hanzestrohm.nl/hemmink/evenementen/cursus-keuren-elektrische-arbeidsmiddelen-volgens-nen-3140/
LOCATION:Digitaal of op locatie
CATEGORIES:Partner Evenement,Training
ATTACH;FMTTYPE=image/jpeg:https://hanzestrohm.nl/content/uploads/2020/04/meten-veiligheid-van-apparaat-3140-scaled.jpg
ORGANIZER;CN="Ingenium":MAILTO:info@de-opleider.nl
END:VEVENT
BEGIN:VEVENT
DTSTART;VALUE=DATE:20230901
DTEND;VALUE=DATE:20240101
DTSTAMP:20260426T063800
CREATED:20231006T123214Z
LAST-MODIFIED:20231114T120507Z
UID:37202-1693526400-1704067199@hanzestrohm.nl
SUMMARY:Cursus inspectie van elektrische installaties volgens de norm (Ingenium)
DESCRIPTION:Wil je zelfstandig keuringen aan elektrische installaties kunnen uitvoeren volgens de NEN 1010 en NEN 3140 norm? Dan is de cursus Inspectie van elektrische installaties volgens NEN 1010 en NEN 3140 van opleider Ingenium wat voor jou. \nNa afloop ben je bevoegd voor het NEN 1010 en NEN 3140 keuren van elektrische installaties bij oplevering en herhalingsinspecties van elektrische installaties volgens de NEN 3140. \nPraktische informatie cursus\n\nDeze cursus wordt georganiseerd op verschillende locaties in Nederland\nDe duur van de training is 1 dag\nDe kosten zijn €319\,-\nDeze cursus wordt aangeboden door Ingenium\n\nBekijk voor de locaties en meer informatie de opleidingspagina.
URL:https://hanzestrohm.nl/hemmink/evenementen/cursus-inspectie-van-elektrische-installaties-volgens-nen-1010-en-nen-3140/
LOCATION:Diverse locaties
CATEGORIES:Partner Evenement,Training
ATTACH;FMTTYPE=image/jpeg:https://hanzestrohm.nl/content/uploads/2020/04/metrel-medewerker-elektrische-installatie-scaled.jpg
ORGANIZER;CN="Ingenium":MAILTO:info@de-opleider.nl
END:VEVENT
BEGIN:VEVENT
DTSTART;VALUE=DATE:20230901
DTEND;VALUE=DATE:20240328
DTSTAMP:20260426T063800
CREATED:20231006T125548Z
LAST-MODIFIED:20231114T120733Z
UID:37215-1693526400-1711583999@hanzestrohm.nl
SUMMARY:Opleiding SCIOS Scope 8 aangeboden door Omega
DESCRIPTION:Tijdens de Scope 8 cursus van Omega Energietechniek word jij klaargestoomd om aan de slag te gaan als volwaardig Scope 8 inspecteur laagspanningsinstallaties. Dit houdt in dat je zelfstandig een inspectie aan elektrische installaties mag uitvoeren. Met als doel? Een zo’n veilig mogelijke bedrijfsvoering waarborgen. \nPraktische informatie\n\nDe opleiding wordt gegeven op diverse data\nLocatie: Vianen of Dronten\nStudiebelasting: 5 dagen\nKosten: €1895\,-\nDeze opleiding wordt aangeboden door Omega\n\nOm SCIOS Scope 8 inspecteur te worden\, is het belangrijk om een examen te maken. Dit examen bestaat uit een praktijk- en theoriedeel. Je kunt je tijdens het inschrijven voor de opleiding ook direct inschrijven voor het examen. \nBekijk voor meer informatie de opleidingspagina van Omega
URL:https://hanzestrohm.nl/hemmink/evenementen/opleiding-scios-scope-8/
LOCATION:Diverse locaties
CATEGORIES:Partner Evenement,Training
ATTACH;FMTTYPE=image/jpeg:https://hanzestrohm.nl/content/uploads/2020/04/inspectie-elektrische-arbeidsmiddelen-nen-3140.jpg
END:VEVENT
BEGIN:VEVENT
DTSTART;VALUE=DATE:20231001
DTEND;VALUE=DATE:20241122
DTSTAMP:20260426T063800
CREATED:20231017T124701Z
LAST-MODIFIED:20231114T101921Z
UID:37479-1696118400-1732233599@hanzestrohm.nl
SUMMARY:Opleiding SCIOS Scope 10 aangeboden door Omega
DESCRIPTION:Tijdens de 3-daagse SCIOS Scope 10 opleiding van Omega leer je hoe je de brandveiligheid van elektrische installaties keurt. Als gecertificeerd Scope 10 inspecteur beoordeel jij – aan de hand van specifieke metingen en tests – de veiligheid van elektrisch materieel. Je doet dit door specifieke metingen en tests. \nPraktische informatie\n\nDe opleiding wordt gegeven op diverse data\nLocatie: Vianen of Dronten\nStudiebelasting: 3 dagen\nKosten: €1095\,-\nDeze opleiding wordt aangeboden door Omega Energietechniek\nVoltooiing SCIOS Scope 8 opleiding vereist\n\nNa afronding van de cursus kun je een SCIOS Scope 10 examen maken. Je kunt je tijdens het inschrijven voor de opleiding ook direct inschrijven voor het examen. \nBekijk voor meer informatie de opleidingspagina van Omega.
URL:https://hanzestrohm.nl/hemmink/evenementen/opleiding-scios-scope-10/
LOCATION:Diverse locaties
CATEGORIES:Partner Evenement
ATTACH;FMTTYPE=image/jpeg:https://hanzestrohm.nl/content/uploads/2023/10/brandveiligheid-elektrische-installaties.jpg
END:VEVENT
BEGIN:VEVENT
DTSTART;VALUE=DATE:20231001
DTEND;VALUE=DATE:20241128
DTSTAMP:20260426T063800
CREATED:20231017T125338Z
LAST-MODIFIED:20231114T102532Z
UID:37485-1696118400-1732751999@hanzestrohm.nl
SUMMARY:Opleiding SCIOS Scope 12 aangeboden door Omega
DESCRIPTION:Tijdens de SCIOS Scope 12 opleiding van Omega leer je in 4 dagen hoe je (periodieke) inspecties uitvoert aan zonnepaneelinstallaties. Na deze opleiding spoor je (brand)gevaarlijke situaties aan PV-installaties op en weet je hoe je de veiligheid moet waarborgen. \nPraktische informatie\n\nDe opleiding wordt gegeven op diverse data\nLocatie: Vianen of Dronten\nStudiebelasting: 4 dagen en 30 uur zelfstudie\nKosten: €1595\,-\nDeze opleiding wordt aangeboden door Omega Energietechniek\n\nMet een SCIOS Scope 8 certificaat heb je recht op 1 dag vrijstelling. Na afronding van de cursus kun je een SCIOS Scope 12 examen maken. Je kunt je tijdens het inschrijven voor de opleiding ook direct inschrijven voor het examen. \nBekijk voor meer informatie de opleidingspagina van Omega.
URL:https://hanzestrohm.nl/hemmink/evenementen/opleiding-scios-scope-12-veiligheidsinspecties-zonnepanelen/
LOCATION:Diverse locaties
CATEGORIES:Partner Evenement
ATTACH;FMTTYPE=image/jpeg:https://hanzestrohm.nl/content/uploads/2020/04/pv-installatie-zonnepanelen-veld-scaled.jpg
END:VEVENT
BEGIN:VEVENT
DTSTART;TZID=Europe/Helsinki:20231010T100000
DTEND;TZID=Europe/Helsinki:20231012T170000
DTSTAMP:20260426T063800
CREATED:20230725T132249Z
LAST-MODIFIED:20230912T112111Z
UID:34839-1696932000-1697130000@hanzestrohm.nl
SUMMARY:Bezoek ons op de Energievakbeurs - 10 t/m 12 oktober 2023
DESCRIPTION:Pak je agenda erbij en markeer de dagen van 10 tot 12 oktober\, want we hebben iets bijzonders voor je in petto! \nDé veiligste oplossing voor netcongestie\nOok dit jaar staan we op de Energievakbeurs. Een event dat barst van de energie\, kennis en de meest innovatieve ideeën. Onze stand wordt dé plek om te praten over – je raadt het al – netcongestieproblemen: \n\nTe weinig capaciteit in het energienet om een (zwaardere) aansluiting te krijgen.\nNiet kunnen terugleveren van zonne-energie.\nStijgende kosten door het nodig hebben van een zwaardere aansluiting voor piekbelasting.\n\nWe zijn volop bezig met het ontwikkelen van oplossingen voor dit complexe probleem\, en we zijn ontzettend enthousiast om onze bevindingen met jou te delen. Samen kunnen we een weg banen door de jungle van netcongestie en de energietransitie op volle snelheid brengen! \n  \nOntmoet ons hier – Hal 6 stand A016\nJe vindt ons in Hal 6\, stand A016. We zitten dichtbij het praktijktheater\, waardoor je geen enkele actie hoeft te missen. Tevens houdt Kees Compaan hier elke dag van 15:30 – 16:00 een seminar over de zoutbatterij en onze eigen gecreëerde oplossing voor energieopslag. \n  \nGratis toegang voor onze relaties\nNormaal kost een ticket voor dit evenement €50\, maar weet je wat? We willen graag dat je erbij bent\, dus we geven je een ticket cadeau. Ja\, je leest het goed\, een gratis toegangskaart\, van ons\, voor jou! \nDus\, waar wacht je nog op? Registreer je via onderstaande knop. \nMeld je aan en ontvang een gratis toegangskaart \n  \nWe verheugen ons op jouw bezoek\nWe kijken ernaar uit je te ontmoeten op de beurs. Tot dan! \n\nhttps://hanzestrohm.nl/content/uploads/2023/07/Vakbeurs-Energie-2023-trailer.mp4
URL:https://hanzestrohm.nl/fortona/evenementen/join-ons-op-de-energievakbeurs-10-t-m-12-oktober/
LOCATION:Brabanthallen\, Diezekade 2\, Den Bosch\, Nederland
CATEGORIES:Evenement
ATTACH;FMTTYPE=image/jpeg:https://hanzestrohm.nl/content/uploads/2023/07/Bynder_template_1200x627_v8.15-25-07-2023.jpg
END:VEVENT
BEGIN:VEVENT
DTSTART;TZID=Europe/Helsinki:20231017T080000
DTEND;TZID=Europe/Helsinki:20231017T170000
DTSTAMP:20260426T063800
CREATED:20231017T133833Z
LAST-MODIFIED:20231114T102841Z
UID:37506-1697529600-1697562000@hanzestrohm.nl
SUMMARY:Cursus: Vakbekwaam Persoon NEN 3140
DESCRIPTION:Wil je Vakbekwaam Persoon NEN 3140 worden? Volg de cursus VP NEN 3140 van Ingenium. Deze cursus duurt 1 dag en wordt praktisch ingestoken. Na afloop van deze cursus ben je op de hoogte van de risico’s van elektriciteit en de noodzakelijke maatregelen voor een veilig verloop van de werkzaamheden. \nPraktische informatie cursus\n\nDeze cursus wordt georganiseerd op verschillende locaties in Nederland\nDe duur van de training is 1 dag\nDe kosten zijn €319\,-\nDeze cursus wordt aangeboden door Ingenium\nEen elektrotechnische vooropleiding dan wel ervaring is noodzakelijk\n\nBekijk voor de locaties en meer informatie de opleidingspagina van Ingenium.
URL:https://hanzestrohm.nl/hemmink/evenementen/cursus-vakbekwaam-persoon-nen-3140/
LOCATION:Diverse locaties
CATEGORIES:Partner Evenement
ATTACH;FMTTYPE=image/jpeg:https://hanzestrohm.nl/content/uploads/2020/04/veiligheid-apparaten-nen3140-scaled.jpg
ORGANIZER;CN="Ingenium":MAILTO:info@de-opleider.nl
END:VEVENT
BEGIN:VEVENT
DTSTART;TZID=Europe/Helsinki:20231026T080000
DTEND;TZID=Europe/Helsinki:20231026T160000
DTSTAMP:20260426T063800
CREATED:20230905T145200Z
LAST-MODIFIED:20231006T120009Z
UID:35924-1698307200-1698336000@hanzestrohm.nl
SUMMARY:IT Infrastructure Datacenters Congres Affligem
DESCRIPTION:Op 26 oktober vindt het IT Infrastructure Datacenters Congres plaats. Dit evenement is volledig gericht op de infrastructuur van datacenters. Gedurende de dag kun je diverse sessies volgen\, netwerken en de expo bezoeken. \nBekijk het programma -> \nOplossingen van TREND Networks\nTijdens het evenement ontdek je de oplossingen van TREND Networks die jou als dataspecialist slimmer helpen werken. We vertellen je er graag meer over in samenwerking met onze partner Seba Service. Kom je ons bezoeken bij de expo?
URL:https://hanzestrohm.nl/hemmink/evenementen/it-infrastructure-affligem-2023/
LOCATION:De Montil\, Moortelstraat 8\, Affligem\, België
CATEGORIES:Partner Evenement
ATTACH;FMTTYPE=image/jpeg:https://hanzestrohm.nl/content/uploads/2023/09/IT-infrastructure.jpg
END:VEVENT
BEGIN:VEVENT
DTSTART;VALUE=DATE:20231031
DTEND;VALUE=DATE:20231213
DTSTAMP:20260426T063800
CREATED:20231017T133252Z
LAST-MODIFIED:20231114T103447Z
UID:37504-1698710400-1702425599@hanzestrohm.nl
SUMMARY:Cursus: Keuren elektrische arbeidsmiddelen volgens NEN 3140
DESCRIPTION:Heb of krijg jij de verantwoordelijkheid over het keuren van elektrisch apparatuur en gereedschap binnen je bedrijf? Volg dan de cursus ‘Keuren elektrische arbeidsmiddelen‘ van Omega en word NEN 3140 keurmeester. Tijdens deze 1-daagse cursus leer je hoe je zelfstandig periodiek elektrische arbeidsmiddelen keurt. \nPraktische informatie\n\nDe opleiding wordt gegeven op diverse data en locaties\nStudiebelasting: 1 dag\nKosten: €239\,-\nDeze opleiding wordt aangeboden door Omega Energietechniek\n\nBekijk voor meer informatie de cursuspagina van Omega.
URL:https://hanzestrohm.nl/hemmink/evenementen/cursus-keuren-elektrische-arbeidsmiddelen-nen-3140/
LOCATION:Diverse locaties
CATEGORIES:Partner Evenement
ATTACH;FMTTYPE=image/jpeg:https://hanzestrohm.nl/content/uploads/2020/04/apparaten-voor-nen3140-scaled.jpeg
END:VEVENT
END:VCALENDAR