BEGIN:VCALENDAR
VERSION:2.0
PRODID:-//Hanzestrohm - ECPv6.14.2//NONSGML v1.0//EN
CALSCALE:GREGORIAN
METHOD:PUBLISH
X-ORIGINAL-URL:https://hanzestrohm.nl
X-WR-CALDESC:Evenementen voor Hanzestrohm
REFRESH-INTERVAL;VALUE=DURATION:PT1H
X-Robots-Tag:noindex
X-PUBLISHED-TTL:PT1H
BEGIN:VTIMEZONE
TZID:Europe/Helsinki
BEGIN:DAYLIGHT
TZOFFSETFROM:+0200
TZOFFSETTO:+0300
TZNAME:EEST
DTSTART:20250330T010000
END:DAYLIGHT
BEGIN:STANDARD
TZOFFSETFROM:+0300
TZOFFSETTO:+0200
TZNAME:EET
DTSTART:20251026T010000
END:STANDARD
END:VTIMEZONE
BEGIN:VEVENT
DTSTART;TZID=Europe/Helsinki:20251001T000000
DTEND;TZID=Europe/Helsinki:20251128T000000
DTSTAMP:20260424T070144
CREATED:20250127T152540Z
LAST-MODIFIED:20250127T153531Z
UID:51525-1759276800-1764288000@hanzestrohm.nl
SUMMARY:TU boot 2025
DESCRIPTION:We hopen dit jaar weer aanwezig te zijn op de TU Boot! Dit keer met een sterke focus op onze brandveiligheidsoplossingen. Als alles volgens plan verloopt\, laten we ook onze nieuwste oplossingen zien die speciaal ontwikkeld zijn voor de NEN 2555:2023. \nWe wachten nog op de officiële bevestiging van Technische Unie. Zodra er meer duidelijkheid is\, brengen we onze nieuwsbrieflezers als eerste op de hoogte. \nWanneer de TU Boot plaatsvindt? Dat laten we je weten zodra we meer informatie hebben. Voor nu is er nog niets bekend over het event. \nBlijf op de hoogte via onze nieuwsbrief en meld je hier aan.
URL:https://hanzestrohm.nl/hemmink/evenementen/tu-boot-2025/
CATEGORIES:Evenement
ATTACH;FMTTYPE=image/jpeg:https://hanzestrohm.nl/content/uploads/2025/01/TU-boot-2025.jpg
END:VEVENT
BEGIN:VEVENT
DTSTART;TZID=Europe/Helsinki:20251007T080000
DTEND;TZID=Europe/Helsinki:20251009T170000
DTSTAMP:20260424T070144
CREATED:20250715T102709Z
LAST-MODIFIED:20250715T102709Z
UID:54472-1759824000-1760029200@hanzestrohm.nl
SUMMARY:Fortona op Vakbeurs Energie 2025
DESCRIPTION:Van dinsdag 7 tot en met donderdag 9 oktober 2025 vindt in de Brabanthallen de Vakbeurs Energie plaats\, het grootste zakelijke platform in Nederland rond duurzame energieopwekking en -besparing. Tijdens deze driedaagse vakbeurs ontmoet je koplopers uit de sector op het gebied van elektriciteit\, warmte\, binnenklimaat\, smart energy en energiestorage. \nOok Fortona is van de partij. Je treft ons op standnummer 7.D085\, waar ons team je verwelkomt met actuele oplossingen in energieopslag. We staan klaar om kennis te delen en je vragen te beantwoorden. \nOntmoet ons op stand 7.D085 in hal 7. Laat je inspireren door onze vakkundige oplossingen en bekijk onze unieke zoutbatterijen met eigen ogen! \nTot op de beurs!
URL:https://hanzestrohm.nl/fortona/evenementen/vakbeurs-energie-2025/
LOCATION:Brabanthallen\, Diezekade 2\, Den Bosch\, Nederland
CATEGORIES:Evenement
ATTACH;FMTTYPE=image/webp:https://hanzestrohm.nl/content/uploads/2025/07/fortona-beurs-vince.webp
ORGANIZER;CN="Fortona":MAILTO:info@fortona.nl
END:VEVENT
END:VCALENDAR