BEGIN:VCALENDAR
VERSION:2.0
PRODID:-//Hanzestrohm - ECPv6.14.2//NONSGML v1.0//EN
CALSCALE:GREGORIAN
METHOD:PUBLISH
X-WR-CALNAME:Hanzestrohm
X-ORIGINAL-URL:https://hanzestrohm.nl
X-WR-CALDESC:Evenementen voor Hanzestrohm
REFRESH-INTERVAL;VALUE=DURATION:PT1H
X-Robots-Tag:noindex
X-PUBLISHED-TTL:PT1H
BEGIN:VTIMEZONE
TZID:Europe/Helsinki
BEGIN:DAYLIGHT
TZOFFSETFROM:+0200
TZOFFSETTO:+0300
TZNAME:EEST
DTSTART:20240331T010000
END:DAYLIGHT
BEGIN:STANDARD
TZOFFSETFROM:+0300
TZOFFSETTO:+0200
TZNAME:EET
DTSTART:20241027T010000
END:STANDARD
BEGIN:DAYLIGHT
TZOFFSETFROM:+0200
TZOFFSETTO:+0300
TZNAME:EEST
DTSTART:20250330T010000
END:DAYLIGHT
BEGIN:STANDARD
TZOFFSETFROM:+0300
TZOFFSETTO:+0200
TZNAME:EET
DTSTART:20251026T010000
END:STANDARD
END:VTIMEZONE
BEGIN:VEVENT
DTSTART;TZID=Europe/Helsinki:20240326T083000
DTEND;TZID=Europe/Helsinki:20250326T160000
DTSTAMP:20260424T220249
CREATED:20231017T132429Z
LAST-MODIFIED:20240301T145620Z
UID:37207-1711441800-1743004800@hanzestrohm.nl
SUMMARY:Gebruikstraining Metrel MI3360 PAT-tester aangeboden door Maptools
DESCRIPTION:Tijdens de gebruikstraining Metrel MI3360 PAT-tester van Maptools ontdek je hoe je de tester veilig en efficiënt gebruikt. Je leert alles over het testen van elektrische apparaten en het nauwkeurig registreren van resultaten. Praktische voorbeelden helpen je om te begrijpen welke vereiste technieken er nodig zijn voor betrouwbare tests. \nPraktische informatie\n\n1-daagse training\nMeer informatie is beschikbaar op de cursuspagina\nAangeboden door MapTools
URL:https://hanzestrohm.nl/hemmink/evenementen/gebruikstraining-metrel-mi3360-pat-tester/
LOCATION:De Bungelaer\, De Bungelaar 4\, Beers\, 5437 PM\, Nederland
CATEGORIES:Partner Evenement
ATTACH;FMTTYPE=image/jpeg:https://hanzestrohm.nl/content/uploads/2023/10/MI-3360-OmegaPAT-XA-training-scaled.jpg
ORGANIZER;CN="Maptools":MAILTO:info@maptools.nl
END:VEVENT
BEGIN:VEVENT
DTSTART;TZID=Europe/Helsinki:20250311T120000
DTEND;TZID=Europe/Helsinki:20250311T160000
DTSTAMP:20260424T220249
CREATED:20250207T081703Z
LAST-MODIFIED:20250207T081932Z
UID:51861-1741694400-1741708800@hanzestrohm.nl
SUMMARY:Kennissessie: brandveiligheid en veilig verblijven
DESCRIPTION:Vergroot je kennis\, verhoog de veiligheid\nDe verantwoordelijkheid voor brandveiligheid ligt bij gebouweigenaren. Tijdens deze kennissessie\, georganiseerd door Hemmink\, Brandplan en Brandweer Gelderland-Midden\, krijg je handvatten om je woongebouwen veiliger te maken. Met interactieve sessies en praktijkvoorbeelden ga je naar huis met direct toepasbare kennis. \nVergroot je kennis\, verhoog de veiligheid\nDe verantwoordelijkheid voor brandveiligheid ligt bij gebouweigenaren. Tijdens deze kennissessie\, georganiseerd door Hemmink\, Brandplan en Brandweer Gelderland-Midden\, krijg je handvatten om je woongebouwen veiliger te maken. Met interactieve sessies en praktijkvoorbeelden ga je naar huis met direct toepasbare kennis. \nWat maakt deze sessie uniek?\n\nEchte ervaringen: Stap in een rookgevulde ruimte met de VR-bril en ervaar hoe het is om te vluchten.\nPraktische inzichten: Leer van specialisten over beheersplannen en innovatieve oplossingen.\nNetwerken: Ontmoet vakgenoten en deel ervaringen.\n\nProgramma\n12:00 – Ontvangst & Lunch\nKom binnen\, pak een broodje en maak kennis met andere deelnemers. \n13:00 – Welkom\nIntroductie door Brandweer Gelderland-Midden\, gevolgd door Brandplan en Hemmink. \n13:10 – Actuele thema’s brandveiligheid\nBrandweer Gelderland-Midden bespreekt de nieuwste ontwikkelingen en regelgeving. \n13:30 – Carrousel Sessie 1\nBezoek in groepen de vier interactieve onderdelen: \n\nBeheersplan (Brandplan)\nOplossingen voor woongebouwen (Hemmink)\nRookcontainer/Gamecontainer (Brandveilig Leven Plein)\nVR-bril scenario (Risk Factory Twente)\n\n14:30 – Pauze\nGeniet van een drankje en de ‘Vlam in de Pan’ demo. \n15:00 – Carrousel Sessie 2\nGa verder met de interactieve sessies. \n16:00 – Netwerkborrel\nSluit de dag af met een borrel en bespreek wat je hebt geleerd. \nPraktische informatie\nLocatie:\nBrandweer Gelderland-Midden\nSchelmseweg 93A\, 6816 SJ Arnhem \nParkeren:\nParkeren kan op het terrein zelf of bij de begraafplaats aan de Waterbergseweg\, tegenover de locatie. Volg de borden voor de juiste route. \nBereikbaarheid:\nDe locatie is eenvoudig te bereiken met het openbaar vervoer. De dichtstbijzijnde bushalte is ‘Schelmseweg’. \nWat neem je mee?\nEen nieuwsgierige mindset en eventueel een paraplu voor de buitenactiviteiten. \nVragen?\nNeem gerust contact op met Richard Kamans via r.kamans@hemmink.nl of Martijn van den Hoeven via m.vandenhoeven@brandplan.nl. \nInschrijven?\nWil je erbij zijn? Meld je dan snel aan. We kijken ernaar uit om je te verwelkomen! \n*Let op: op 5 maart wordt deze sessie ook gegeven. Mocht 11 maart niet uitkomen\, ben je ook van harte welkom op 11 maart. \n\nMeld je aan voor…\nWoensdag 5 maart of dinsdag 11 maart
URL:https://hanzestrohm.nl/hemmink/evenementen/kennissessie-brandveiligheid-en-veilig-verblijven-2/
LOCATION:Brandweer Gelderland-Midden\, Schelmseweg 93A\, Arnhem\, Gelderland\, 6816 SJ\, Nederland
CATEGORIES:Evenement
ATTACH;FMTTYPE=image/png:https://hanzestrohm.nl/content/uploads/2025/02/Kennissessie-1.png
ORGANIZER;CN="Hemmink":MAILTO:info@hanzestrohm.nl
END:VEVENT
END:VCALENDAR