BEGIN:VCALENDAR
VERSION:2.0
PRODID:-//Hanzestrohm - ECPv6.14.2//NONSGML v1.0//EN
CALSCALE:GREGORIAN
METHOD:PUBLISH
X-WR-CALNAME:Hanzestrohm
X-ORIGINAL-URL:https://hanzestrohm.nl/en/
X-WR-CALDESC:Events for Hanzestrohm
REFRESH-INTERVAL;VALUE=DURATION:PT1H
X-Robots-Tag:noindex
X-PUBLISHED-TTL:PT1H
BEGIN:VTIMEZONE
TZID:Europe/Helsinki
BEGIN:DAYLIGHT
TZOFFSETFROM:+0200
TZOFFSETTO:+0300
TZNAME:EEST
DTSTART:20210328T010000
END:DAYLIGHT
BEGIN:STANDARD
TZOFFSETFROM:+0300
TZOFFSETTO:+0200
TZNAME:EET
DTSTART:20211031T010000
END:STANDARD
END:VTIMEZONE
BEGIN:VEVENT
DTSTART;TZID=Europe/Helsinki:20211018T090000
DTEND;TZID=Europe/Helsinki:20211020T180000
DTSTAMP:20260426T050913
CREATED:20210812T122529Z
LAST-MODIFIED:20211005T090430Z
UID:18346-1634547600-1634752800@hanzestrohm.nl
SUMMARY:Maritime Hybrid\, Electric & Hydrogen Fuel Cells Conference
DESCRIPTION:Powering the drive towards a sustainable maritime sector\n“Driven by the compelling benefits of reduced fuel consumption\, greenhouse gas emissions and lower-cost maintenance\, the adoption of hybrid\, electric and hydrogen fuel cell technologies is accelerating across the maritime sector. These clean technologies will play a pivotal role in the decades to come as the maritime sector transitions towards decarbonisation.” \nWe are proud to anounce that we are one of the event partners of this years Maritime Hybrid\, Electric & Hydrogen Fuel Cells Conference. This 3 day event will take place from 18 – 20 October 2021 in Bergen\, Norway. After more than one year of COVID-19 restrictions we are delighted to join the other maritime industry experts. \nOur colleagues Peter van den Berg and Aniket Sarode will expose our Maritime Dc solution\, attend the Seminars and the Networking Coffee Breaks inbetween. Please feel free to approach us during the break to discuss the latest developments and posibilities of our range of 1kV solid state DC breaker switches and other maritime-related power electronics components. \nThis year’s agenda is packed with new and interesting developments\nThis year’s agenda\, delivered by leading authorities in the sector\, will provide a detailed analysis of technology and regulatory developments over the past 12 months. It will cover innovations in battery and fuel cell technology\, showcase the benefits of electrification\, consider the long-term benefits of hydrogen fuel cells\, assess the safety factors\, and present the latest updates on projects from across Europe. \nDay 1: Maritime Hydrogen & Fuel Cells Programme\nHydrogen fuel cell technology is seen by many in the industry to be the ultimate solution to the zero-emission challenge. This one-day programme highlights the latest industry intelligence\, initiatives and developments in hydrogen fuel cells in the maritime sector. \nDay 2 & 3: Maritime Hybrid & Electric Programme\nThis comprehensive two-day programme will examine the latest innovations hybrid and electric solutions driving development in the maritime sector. Experts will demonstrate how these technologies can provide significant reductions in fuel consumption\, emissions and maintenance costs. \nMore information and the visitor registration link can be found on the official event website.
URL:https://hanzestrohm.nl/en/kwx/evenementen/maritime-hybrid-electric-hydrogen-fuel-cells-conference/
CATEGORIES:Event
ATTACH;FMTTYPE=image/jpeg:https://hanzestrohm.nl/content/uploads/2021/08/maritime-hybrid-conference-bergen-2021-norway.jpg
END:VEVENT
END:VCALENDAR